Workbook

Sheet Opći uvjeti
D1: GRAĐEVINA | E1: SANACIJA POSTOJEĆEG | G1: BR. PROJEKTA | H1: 51-20265-S
E2: KOSOG KROVA
E3: PETROVA ULICA 53/4 | G3: ZOP | H3: 51-2026-PE
D4: NARUČITELJ | E4: GSKG d.o.o.
D5: FAZA PROJEKTA | E5: GLAVNI PROJEKT | G5: DATUM | H5: Rujan 2026.
D8: GLAVNI PROJEKTANT
D11: PROJEKTANT TROŠKOVNIKA GRAĐEVINSKO-OBRTNIČKIH RADOVA
D14: PROJEKTANT TROŠKOVNIKA OPREME
D18: OPĆE NAPOMENE - GRAĐEVINSKO-OBRTNIČKI RADOVI
D19: Izvođač je dužan proučiti izvedbenu dokumentaciju, te prije samog ugovaranja i izvođenja radova upozoriti glavnog projektanta na eventualne nejasnoće ili neusklađenosti prije ugovaranja i izvođenja, odnosno iznijeti svoje primjedbe već u fazi davanja ponude.
D20: Izrada tipskih primjeraka i uzoraka svih ugrađenih materijala ( npr. ograde, pregradne stijene, bravarija, opločenja i sl.), te ovjera istih kod glavnog projektanta u cijeni je stavki i u obvezi je izvođača.
D21: Cijene upisane u ovaj troškovnik sadrže svu odštetu za pojedine radove i dobave u odnosnim stavkama troškovnika i to u potpuno dogotovljenom stanju, tj. sav rad, naknadu za alat, materijal, sve pripremne, sporedne i završne radove, horizontalne i vertikalne transporte.
D22: Pod unesenim cijenama podrazumijevaju se također i sva zakonska davanja, kao i pripomoć kod izvedbe obrtničkih radova (zaštita obrtničkih proizvoda: stolarije, bravarije, limarije, restauratorskih elemenata i slično), sva potrebna ispitivanja građevinskih materijala.
D23: Sav materijal koji se upotrebljava mora odgovarati postojećim tehničkim propisima i normama. Ukoliko se upotrebljava materijal za koji ne postoji odgovarajući standard, njegovu kvalitetu treba dokazati atestima.
D24: Davanjem ponude izvođač se obvezuje da će pravovremeno nabaviti sav materijal opisan u pojedinim stavkama troškovnika. U slučaju nemogućnosti nabave opisanog materijala tijekom izvođenja radova, za svaku će se izmjenu prikupiti ponude i u prisutnosti naručitelja i nadzornog inženjera evaluirati ponude i odabrati zamjenski materijal.
D25: Izvođač radova treba uz ponudu priložiti jedinične cijene za materijale i radnu snagu, te "faktor" tvrtke, koji će se odnositi na izgradnju ove građevine.
D26: Ukoliko opis pojedine stavke dovodi izvođača u nedoumicu o načinu izvedbe ili kalkulacije cijena, treba pravovremeno tražiti objašnjenje od naručitelja i projektanta.
... D183: Izvoditelj je dužan osigurati svu potrebnu atestnu dokumentaciju.

Sheet Kosi krov
D1: GRAĐEVINA | E1: ='Opći uvjeti'!E1 -> SANACIJA POSTOJEĆEG | G1: BR. PROJEKTA | H1: 51-2026-S
E2: ='Opći uvjeti'!E2 -> KOSOG KROVA
E3: ='Opći uvjeti'!E3 -> PETROVA ULICA 53/4 | G3: ZOP | H3: 51-2026-PE
D4: NARUČITELJ | E4: GSKG d.o.o.
D5: FAZA PROJEKTA | E5: GLAVNI PROJEKT | G5: DATUM | H5: Rujan 2026.
C7: Rbr. | D7: Opis stavke | E7: Jed. mjera | F7: Količina | G7: Jed. cijena | H7: Ukupno cijena
C10: A | D10: KOSI KROV - GRAĐEVINSKO-OBRTNIČKI RADOVI
D12: NAPOMENA 1: Prilikom izvedbe radova predviđenih ovim troškovnikom treba se pridržavati svih važećih zakona, pravilnika, propisa i normi, kao i pravila zanata kako bi se što kvalitetnije izveli radovi.
D14: NAPOMENA 2: Sve nejasnoće u troškovniku i u izvedbenom projektu treba riješiti s projektantom prije davanje ponude i početka radova.
D16: NAPOMENA 3: Izvođač je dužan u cijenu radova uključiti sve potrebne zaštite dijelova gradilišta koji nisu predmetom radova od oštećenja i prljanja, odvajanje prostora rada od ostatka prostora, izvedba daščanih prijelaza i sl.
C18: 1 | D18: RADOVI RUŠENJA I PRIPREMNI RADOVI
D20: Napomene:
D21: Prije početka radova, izvođač je obavezan postaviti i instalirati sve privremene objekte, zaštitne ograde, opremu i instalacije potrebne za normalno izvođenje radova te iste ukloniti s gradilišta nakon završetka radova.
D22: Sve radove obavezno izvesti u svemu prema važećem pravilniku ZNR i ZOP, uz obavezno poštivanje svih mjera propisanih istim.
D23: U postupku rušenja – uklanjanja postojećih građevina ili dijela istih, rad mora biti organiziran tako da se poštuju svi propisi zaštite na radu, a izvršioci – djelatnici moraju biti upoznati s njima i primjenjivati ih u potpunosti.
D24: Posebno će se odvojiti ambalažni otpad (papir, plastika, staklo, drvo i sl.) od šute i otpada građevinskog materijala (cigla, beton, crijep, ker. pločice i sl.). Sav otpadni materijal će se učestalo odvoziti sa lokacije na mjesta predviđena za odlaganje pojedine vrste otpada i u reciklažna dvorišta, a sam odvoz je u cijeni stavke.
D25: Zabranjeno je odvoziti otpad na mjesta koja za to nisu dozvoljena.
D26: Nakon rušenja i odvoza otpada i građevinske šute, mjesto izvođenja radova se mora dovesti u uredno stanje, a sa ulične strane javna prometna površina se mora očistiti i dovesti u prvobitno stanje.
D27: Sav otpad prevozi se i odlaže sukladno propisima o otpadu i komunalnom redu. Odlaganje na gradsku planirku predviđenu za prihvat takve vrste materijala.
C29: 1.1. | D29: Pažljiva demontaža metalnog kontinuiranog snjegobrana. U cijenu uključen sav potreban rad, transport otpadnog materijala od kosog krova do deponije ispred objekta, utovar u kamion, odvoz na gradsku deponiju predviđenu za prihvat takve vrste materijala, istovar na deponiji, te plaćanje svih potrebnih davanja na deponiji.
D30: Obračun po m'. | E30: m' | F30: 12.5 | H30: =F30*G30 -> 0
C32: 1.2. | D32: Pažljiva demontaža vanjske klima jedinice zajedno sa čeličnom podkonstrukcijom, te vraćanje istog nakon završetka svih radova. U cijenu uključen sav potreban rad, materijal i pribor, te sav transport i manipulacija.
D34: Obračun po kompletu.
D35: a) demontaža | E35: kompl | F35: 1 | H35: =F35*G35 -> 0
D36: b) montaža po završetku radova | E36: kompl | F36: 1 | H36: =F36*G36 -> 0
C38: 1.3. | D38: Pažljiva demontaža gromobrana sa svim nosačima. U cijenu uključen sav potreban rad, transport otpadnog materijala od kosog krova do deponije ispred objekta, utovar u kamion, odvoz na gradsku deponiju predviđenu za prihvat takve vrste materijala, istovar na deponiji, te plaćanje svih potrebnih davanja na deponiji.
D39: Obračun po kompletu. | E39: kompl | F39: 1 | H39: =F39*G39 -> 0
C41: 1.4. | D41: Demontaža postojećih limarskih opšava, sa pripadnim elementima, oko dimnjaka i krovnih prozora. U cijenu uključen sav potreban rad, ručno nošenje otpadnog materijala od kosog krova do deponije ispred zgrade, utovar u kamion, transport i odvoz otpadnog materijala na deponiju predviđenu za prihvat takve vrste materijala uz sva davanja na deponiji.
D42: Obračun po m'.
D43: - opšavni lim sa pripadnim elementima do 40 cm r.š. (prednja limena klupčica otvorene terase) | E43: m' | F43: 4.65 | H43: =F43*G43 -> 0
D44: - opšavni lim sa pripadnim elementima do 40 cm r.š. (bočni limeni opšavi otvorene terase) | E44: m' | F44: 4.9 | H44: =F44*G44 -> 0
D45: - opšavni lim sa pripadnim elementima do 70 cm r.š. (vertikalni lijevi opšav otvorene terase - uzdignuti dio) | E45: m' | F45: 0.75 | H45: =F45*G45 -> 0
D46: - opšavni lim sa pripadnim elementima do 45 cm r.š. (vertikalni desni opšav otvorene terase - uzdignuti dio) | E46: m' | F46: 0.75 | H46: =F46*G46 -> 0
D47: - opšavni lim sa pripadnim elementima do 40 cm r.š. (opšavi kućice zatvorene terase) | E47: m' | F47: 9.15 | H47: =F47*G47 -> 0
D48: - opšavni lim sa pripadnim elementima do 40 cm r.š. (opšavi dimnjaka) | E48: m' | F48: 26.628 | H48: =F48*G48 -> 0
C50: 1.5. | D50: Demontaža postojećih ravnih limova koji su postavljeni na limeni pokrov. U cijenu uključen sav potreban rad, ručno nošenje otpadnog materijala od kosog krova do deponije ispred zgrade, utovar u kamion, transport i odvoz otpadnog materijala na deponiju predviđenu za prihvat takve vrste materijala uz sva davanja na deponiji.
D51: Obračun po m'.
D53: - ravni lim do 75 cm r.š. | E53: m' | F53: 4.01 | H53: =F53*G53 -> 0
D54: - ravni lim do 135 cm r.š. | E54: m' | F54: 6.8985 | H54: =F54*G54 -> 0
D55: - ravni lim do 295 cm r.š. | E55: m' | F55: 2.75 | H55: =F55*G55 -> 0
...

Sheet Bočna fasada
D1: GRAĐEVINA | E1: ='[1]Opći uvjeti'!E1 -> SANACIJA KOSOG | G1: BR. PROJEKTA | H1: 51-2026-S
E2: ='[1]Opći uvjeti'!E2 -> KROVA I BOČNE FASADE
E3: ='[1]Opći uvjeti'!E3 -> PETROVA ULICA 53/4 | G3: ZOP | H3: 51-2026-PE
D4: NARUČITELJ | E4: GSKG d.o.o.
D5: FAZA PROJEKTA | E5: GLAVNI PROJEKT | G5: DATUM | H5: Rujan 2026.
C7: Rbr. | D7: Opis stavke | E7: Jed. mjera | F7: Količina | G7: Jed. cijena | H7: Ukupno cijena
C10: B | D10: BOČNA FASADA - GRAĐEVINSKO-OBRTNIČKI RADOVI
D12: NAPOMENA 1: Prilikom izvedbe radova predviđenih ovim troškovnikom treba se pridržavati svih važećih zakona, pravilnika, propisa i normi, kao i pravila zanata kako bi se što kvalitetnije izveli radovi.
D14: NAPOMENA 2: Sve nejasnoće u troškovniku i u izvedbenom projektu treba riješiti s projektantom prije davanje ponude i početka radova.
D16: NAPOMENA 3: Izvođač je dužan u cijenu radova uključiti sve potrebne zaštite dijelova gradilišta koji nisu predmetom radova od oštećenja i prljanja, odvajanje prostora rada od ostatka prostora, izvedba daščanih prijelaza i sl.
C18: 1 | D18: RADOVI RUŠENJA I PRIPREMNI RADOVI
D20: Napomene:
D21: Prije početka radova, izvođač je obavezan postaviti i instalirati sve privremene objekte, zaštitne ograde, opremu i instalacije potrebne za normalno izvođenje radova te iste ukloniti s gradilišta nakon završetka radova.
D22: Sve radove obavezno izvesti u svemu prema važećem pravilniku ZNR i ZOP, uz obavezno poštivanje svih mjera propisanih istim.
D23: U postupku rušenja – uklanjanja postojećih građevina ili dijela istih, rad mora biti organiziran tako da se poštuju svi propisi zaštite na radu, a izvršioci – djelatnici moraju biti upoznati s njima i primjenjivati ih u potpunosti.
D24: Posebno će se odvojiti ambalažni otpad (papir, plastika, staklo, drvo i sl.) od šute i otpada građevinskog materijala (cigla, beton, crijep, ker. pločice i sl.). Sav otpadni materijal će se učestalo odvoziti sa lokacije na mjesta predviđena za odlaganje pojedine vrste otpada i u reciklažna dvorišta, a sam odvoz je u cijeni stavke.
D25: Zabranjeno je odvoziti otpad na mjesta koja za to nisu dozvoljena.
D26: Nakon rušenja i odvoza otpada i građevinske šute, mjesto izvođenja radova se mora dovesti u uredno stanje, a sa ulične strane javna prometna površina se mora očistiti i dovesti u prvobitno stanje.
D27: Sav otpad prevozi se i odlaže sukladno propisima o otpadu i komunalnom redu. Odlaganje na gradsku planirku predviđenu za prihvat takve vrste materijala.
C29: 1.1. | D29: Pažljiva demontaža dve ventilatora sa zaštitnom mrežicom na fasadi, dimenzija 18x18 cm, te vraćanje istih nakon završetka svih radova. U cijenu uključen sav potreban rad, materijal i pribor, te sav transport i manipulacija.
D30: Obračun po kompletu.
D31: a) demontaža | E31: kompl | F31: 2 | H31: =F31*G31 -> 0
D32: b) montaža po završetku radova | E32: kompl | F32: 2 | H32: =F32*G32 -> 0
C35: 1.2. | D35: Pažljiva demontaža vanjske klima jedinice zajedno sa čeličnom podkonstrukcijom, te vraćanje istog nakon završetka svih radova. U cijenu uključen sav potreban rad, materijal i pribor, te sav transport i manipulacija.
D36: Obračun po kompletu.
D37: a) demontaža | E37: kompl | F37: 1 | H37: =F37*G37 -> 0
D38: b) montaža po završetku radova | E38: kompl | F38: 1 | H38: =F38*G38 -> 0
C40: 1.3. | D40: Dobava, postave, skidanje i odvoz drevnih dasaka za zaštitu otvora ili drugog na pročeljima. Postavlja se na doprozornike ili slično, tako da ih ne ošteti. Uključiti zaštitu ventilacijskih otvora i drugog i dodatne potkonstrukcje i element (drvene grede - daske, mosnice, panoi i dr.). U stavku uključen sav potreban rad, materijal i transport.
D41: Obračun po m2 zaštićenih otvora / ploha na pročeljima. | E41: m2 | F41: 12.056625 | H41: =F41*G41 -> 0
C43: 1.4. | D43: Pažljiva demontaža svih slojeva postojeće toplinske izolacije bočne fasade - ljepilo, toplinska izolacija debljine d=15 cm, dcostruki armirani sloj sa mrežicom, silikatna žbuka. U cijenu uključen sav potreban rad, ručno nošenje otpadnog materijala do deponije ispred zgrade, utovar u kamion, transport i odvoz i istovar otpadnog materijala na deponiju predviđenu za prihvat takve vrste materijala uz sva davanja na deponiji.
D44: Obračun po m2. | E44: m2 | F44: 128.0475 | H44: =F44*G44 -> 0
C46: 1.5. | D46: Pažljiva demontaža limenih prozorskih klupčica. U cijenu uključen sav potreban rad, ručno nošenje otpadnog materijala do deponije ispred zgrade, utovar u kamion, transport i odvoz i istovar otpadnog materijala na deponiju predviđenu za prihvat takve vrste materijala uz sva davanja na deponiji.
D47: Obračun po m'. Preklopi se ne računaju zasebno. | E47: m' | F47: 9.2925 | H47: =F47*G47 -> 0
C49: 1.6. | D49: Pažljiva demontaža limenog opšava r.š. 35 cm ispod postojeće toplinske obloge fasade. U cijenu uključen sav potreban rad, ručno nošenje otpadnog materijala do deponije ispred zgrade, utovar u kamion, transport i odvoz i istovar otpadnog materijala na deponiju predviđenu za prihvat takve vrste materijala uz sva davanja na deponiji.
D50: Obračun po m'. Preklopi se ne računaju zasebno. | E50: m' | F50: 13.55 | H50: =F50*G50 -> 0
C52: 1.7. | D52: Nepredvidljivi radovi, koji se ne mogu drugačije normirati – pomoć kod raznih dubljenja i bušenja, nepredviđeni radovi i sl. Materijal se obračunava prema stvarno utrošenim količinama prema cjeniku, odnosno prema pogođenim jediničnim cijenama. Obračun prema upisu u građevinski dnevnik i dogovoru s investitorom i nadzornim inženjerom.
D53: Obračun po utrošenom satu.
D54: - NKV radnik | E54: h | F54: 5 | H54: =F54*G54 -> 0
D55: - VK radnik | E55: h | F55: 5 | H55: =F55*G55 -> 0
C57: 1 | D57: PRIPREMNI RADOVI I RADOVI RUŠENJA | E57: UKUPNO | H57: =SUM(H27:H56) -> 0
...

Sheet Rekapitulacija
D1: GRAĐEVINA | E1: ='[1]Opći uvjeti'!E1 -> SANACIJA KOSOG | G1: BR. PROJEKTA | H1: 51-2026-S
E2: ='[1]Opći uvjeti'!E2 -> KROVA I BOČNE FASADE
E3: ='[1]Opći uvjeti'!E3 -> PETROVA ULICA 53/4 | G3: ZOP | H3: 51-2026-PE
D4: NARUČITELJ | E4: GSKG d.o.o.
D5: FAZA PROJEKTA | E5: GLAVNI PROJEKT | G5: DATUM | H5: Rujan 2026.
C7: Rbr. | D7: Opis stavke | E7: Jed. mjera | F7: Količina | G7: Jed. cijena | H7: Ukupno cijena
D11: REKAPITULACIJA
C13: A | D13: KOSI KROV | H13: ='Kosi krov'!H360 -> 0
C14: B | D14: BOČNA FASADA | H14: ='Bočna fasada'!H135 -> 0
D16: UKUPNO | H16: =SUM(H12:H15) -> 0
G18: PDV 25% | H18: =0.25*H16 -> 0
G20: SVEUKUPNO | H20: =H18+H16 -> 0
