Workbook

Sheet Opći uvjeti
D1: GRAĐEVINA | E1: SANACIJA POSTOJEĆEG | G1: BR. PROJEKTA | H1: 51-20265-S
E2: KOSOG KROVA
E3: PETROVA ULICA 53/4 | G3: ZOP | H3: 51-2026-PE
D4: NARUČITELJ | E4: GSKG d.o.o.
D5: FAZA PROJEKTA | E5: GLAVNI PROJEKT | G5: DATUM | H5: Rujan 2026.
D8: GLAVNI PROJEKTANT
D11: PROJEKTANT TROŠKOVNIKA GRAĐEVINSKO-OBRTNIČKIH RADOVA
D14: PROJEKTANT TROŠKOVNIKA OPREME
D18: OPĆE NAPOMENE - GRAĐEVINSKO-OBRTNIČKI RADOVI
D19: Izvođač je dužan proučiti izvedbenu dokumentaciju, te prije samog ugovaranja i izvođenja radova upozoriti glavnog projektanta na eventualne nejasnoće ili neusklađenosti prije ugovaranja i izvođenja, odnosno iznijeti svoje primjedbe već u fazi davanja ponude.
D20: Izrada tipskih primjeraka i uzoraka svih ugrađenih materijala ( npr. ograde, pregradne stijene, bravarija, opločenja i sl.), te ovjera istih kod glavnog projektanta u cijeni je stavki i u obvezi je izvođača.
D21: Cijene upisane u ovaj troškovnik sadrže svu odštetu za pojedine radove i dobave u odnosnim stavkama troškovnika i to u potpuno dogotovljenom stanju, tj. sav rad, naknadu za alat, materijal, sve pripremne, sporedne i završne radove, horizontalne i vertikalne transporte.
D22: Pod unesenim cijenama podrazumijevaju se također i sva zakonska davanja, kao i pripomoć kod izvedbe obrtničkih radova (zaštita obrtničkih proizvoda: stolarije, bravarije, limarije, restauratorskih elemenata i slično), sva potrebna ispitivanja građevinskih materijala.
D23: Sav materijal koji se upotrebljava mora odgovarati postojećim tehničkim propisima i normama. Ukoliko se upotrebljava materijal za koji ne postoji odgovarajući standard, njegovu kvalitetu treba dokazati atestima.
D24: Davanjem ponude izvođač se obvezuje da će pravovremeno nabaviti sav materijal opisan u pojedinim stavkama troškovnika. U slučaju nemogućnosti nabave opisanog materijala tijekom izvođenja radova, za svaku će se izmjenu prikupiti ponude i u prisutnosti naručitelja i nadzornog inženjera evaluirati ponude i odabrati zamjenski materijal.
D25: Izvođač radova treba uz ponudu priložiti jedinične cijene za materijale i radnu snagu, te "faktor" tvrtke, koji će se odnositi na izgradnju ove građevine.
D26: Ukoliko opis pojedine stavke dovodi izvođača u nedoumicu o načinu izvedbe ili kalkulacije cijena, treba pravovremeno tražiti objašnjenje od naručitelja i projektanta.
... D183: Izvoditelj je dužan osigurati svu potrebnu atestnu dokumentaciju.

Sheet Kosi krov
D1: GRAĐEVINA | E1: ='Opći uvjeti'!E1 -> SANACIJA POSTOJEĆEG | G1: BR. PROJEKTA | H1: 51-2026-S
E2: ='Opći uvjeti'!E2 -> KOSOG KROVA
E3: ='Opći uvjeti'!E3 -> PETROVA ULICA 53/4 | G3: ZOP | H3: 51-2026-PE
D4: NARUČITELJ | E4: GSKG d.o.o.
D5: FAZA PROJEKTA | E5: GLAVNI PROJEKT | G5: DATUM | H5: Rujan 2026.
C7: Rbr. | D7: Opis stavke | E7: Jed. mjera | F7: Količina | G7: Jed. cijena | H7: Ukupno cijena
C10: A | D10: KOSI KROV - GRAĐEVINSKO-OBRTNIČKI RADOVI
D12: NAPOMENA 1: Prilikom izvedbe radova predviđenih ovim troškovnikom treba se pridržavati svih važećih zakona, pravilnika, propisa i normi, kao i pravila zanata kako bi se što kvalitetnije izveli radovi.
D14: NAPOMENA 2: Sve nejasnoće u troškovniku i u izvedbenom projektu treba riješiti s projektantom prije davanje ponude i početka radova.
D16: NAPOMENA 3: Izvođač je dužan u cijenu radova uključiti sve potrebne zaštite dijelova gradilišta koji nisu predmetom radova od oštećenja i prljanja, odvajanje prostora rada od ostatka prostora, izvedba daščanih prijelaza i sl.
C18: 1 | D18: RADOVI RUŠENJA I PRIPREMNI RADOVI
D20: Napomene:
D21: Prije početka radova, izvođač je obavezan postaviti i instalirati sve privremene objekte, zaštitne ograde, opremu i instalacije potrebne za normalno izvođenje radova te iste ukloniti s gradilišta nakon završetka radova.
D22: Sve radove obavezno izvesti u svemu prema važećem pravilniku ZNR i ZOP, uz obavezno poštivanje svih mjera propisanih istim.
D23: U postupku rušenja – uklanjanja postojećih građevina ili dijela istih, rad mora biti organiziran tako da se poštuju svi propisi zaštite na radu, a izvršioci – djelatnici moraju biti upoznati s njima i primjenjivati ih u potpunosti.
D24: Posebno će se odvojiti ambalažni otpad (papir, plastika, staklo, drvo i sl.) od šute i otpada građevinskog materijala (cigla, beton, crijep, ker. pločice i sl.). Sav otpadni materijal će se učestalo odvoziti sa lokacije na mjesta predviđena za odlaganje pojedine vrste otpada i u reciklažna dvorišta, a sam odvoz je u cijeni stavke.
D25: Zabranjeno je odvoziti otpad na mjesta koja za to nisu dozvoljena.
D26: Nakon rušenja i odvoza otpada i građevinske šute, mjesto izvođenja radova se mora dovesti u uredno stanje, a sa ulične strane javna prometna površina se mora očistiti i dovesti u prvobitno stanje.
D27: Sav otpad prevozi se i odlaže sukladno propisima o otpadu i komunalnom redu. Odlaganje na gradsku planirku predviđenu za prihvat takve vrste materijala.
C29: 1.1. | D29: Pažljiva demontaža metalnog kontinuiranog snjegobrana. U cijenu uključen sav potreban rad, transport otpadnog materijala od kosog krova do deponije ispred objekta, utovar u kamion, odvoz na gradsku deponiju predviđenu za prihvat takve vrste materijala, istovar na deponiji, te plaćanje svih potrebnih davanja na deponiji.
D30: Obračun po m'. | E30: m' | F30: 12.5 | H30: =F30*G30 -> 0
C32: 1.2. | D32: Pažljiva demontaža vanjske klima jedinice zajedno sa čeličnom podkonstrukcijom, te vraćanje istog nakon završetka svih radova. U cijenu uključen sav potreban rad, materijal i pribor, te sav transport i manipulacija.
D34: Obračun po kompletu.
D35: a) demontaža | E35: kompl | F35: 1 | H35: =F35*G35 -> 0
D36: b) montaža po završetku radova | E36: kompl | F36: 1 | H36: =F36*G36 -> 0
C38: 1.3. | D38: Pažljiva demontaža gromobrana sa svim nosačima. U cijenu uključen sav potreban rad, transport otpadnog materijala od kosog krova do deponije ispred objekta, utovar u kamion, odvoz na gradsku deponiju predviđenu za prihvat takve vrste materijala, istovar na deponiji, te plaćanje svih potrebnih davanja na deponiji.
D39: Obračun po kompletu. | E39: kompl | F39: 1 | H39: =F39*G39 -> 0
C41: 1.4. | D41: Demontaža postojećih limarskih opšava, sa pripadnim elementima, oko dimnjaka i krovnih prozora. U cijenu uključen sav potreban rad, ručno nošenje otpadnog materijala od kosog krova do deponije ispred zgrade, utovar u kamion, transport i odvoz otpadnog materijala na deponiju predviđenu za prihvat takve vrste materijala uz sva davanja na deponiji.
D42: Obračun po m'.
D43: - opšavni lim sa pripadnim elementima do 40 cm r.š. (prednja limena klupčica otvorene terase) | E43: m' | F43: 4.65 | H43: =F43*G43 -> 0
D44: - opšavni lim sa pripadnim elementima do 40 cm r.š. (bočni limeni opšavi otvorene terase) | E44: m' | F44: 4.9 | H44: =F44*G44 -> 0
D45: - opšavni lim sa pripadnim elementima do 70 cm r.š. (vertikalni lijevi opšav otvorene terase - uzdignuti dio) | E45: m' | F45: 0.75 | H45: =F45*G45 -> 0
D46: - opšavni lim sa pripadnim elementima do 45 cm r.š. (vertikalni desni opšav otvorene terase - uzdignuti dio) | E46: m' | F46: 0.75 | H46: =F46*G46 -> 0
D47: - opšavni lim sa pripadnim elementima do 40 cm r.š. (opšavi kućice zatvorene terase) | E47: m' | F47: 9.15 | H47: =F47*G47 -> 0
D48: - opšavni lim sa pripadnim elementima do 40 cm r.š. (opšavi dimnjaka) | E48: m' | F48: 26.628 | H48: =F48*G48 -> 0
C50: 1.5. | D50: Demontaža postojećih ravnih limova koji su postavljeni na limeni pokrov. U cijenu uključen sav potreban rad, ručno nošenje otpadnog materijala od kosog krova do deponije ispred zgrade, utovar u kamion, transport i odvoz otpadnog materijala na deponiju predviđenu za prihvat takve vrste materijala uz sva davanja na deponiji.
D51: Obračun po m'.
D53: - ravni lim do 75 cm r.š. | E53: m' | F53: 4.01 | H53: =F53*G53 -> 0
D54: - ravni lim do 135 cm r.š. | E54: m' | F54: 6.8985 | H54: =F54*G54 -> 0
D55: - ravni lim do 295 cm r.š. | E55: m' | F55: 2.75 | H55: =F55*G55 -> 0
D56: - ravni lim do 35 cm r.š. (oko dimnjaka uz sljeme krova) | E56: m' | F56: 2.39 | H56: =F56*G56 -> 0
C58: 1.6. | D58: Demontaža postojećih opšavnih limova prema drugom objektu. U cijenu uključen sav potreban rad, ručno nošenje otpadnog materijala od kosog krova do deponije ispred zgrade, utovar u kamion, transport i odvoz otpadnog materijala na deponiju predviđenu za prihvat takve vrste materijala uz sva davanja na deponiji.
D59: Obračun po m'.
D60: - ravni lim do 40 cm r.š. | E60: m' | F60: 11.65 | H60: =F60*G60 -> 0
C62: 1.7. | D62: Demontaža postojećih opšavnih limova po obodu krova. U cijenu uključen sav potreban rad, ručno nošenje otpadnog materijala od kosog krova do deponije ispred zgrade, utovar u kamion, transport i odvoz otpadnog materijala na deponiju predviđenu za prihvat takve vrste materijala uz sva davanja na deponiji.
D63: Obračun po m'.
D64: - ravni lim do 40 cm r.š. | E64: m' | F64: 98.8365 | H64: =F64*G64 -> 0
C66: 1.8. | D66: Demontaža postojećih opšavnih limova sljemena krova. U cijenu uključen sav potreban rad, ručno nošenje otpadnog materijala od kosog krova do deponije ispred zgrade, utovar u kamion, transport i odvoz otpadnog materijala na deponiju predviđenu za prihvat takve vrste materijala uz sva davanja na deponiji.
D67: Obračun po m'.
D68: - ravni lim do 40 cm r.š. | E68: m' | F68: 12.5 | H68: =F68*G68 -> 0
C70: 1.9. | D70: Demontaža postojećeg limenog horizontalnog žlijeba oborinske odvodnje f160 mm sa svim pripadnim elementnima. U cijenu uključen sav potreban rad, ručno nošenje otpadnog materijala od kosog krova do deponije ispred zgrade, utovar u kamion, transport i odvoz otpadnog materijala na deponiju predviđenu za prihvat takve vrste materijala uz sva davanja na deponiji.
D71: Obračun po m'.
D72: - horizontalni skriveni limeni žlijeb sa pripadnim elementima | E72: m' | F72: 25.1 | H72: =F72*G72 -> 0
D73: - horizontalni vidljivi limeni žlijeb sa pripadnim elementima (otvorena i zatvorena terasa) | E73: m' | F73: 9.1 | H73: =F73*G73 -> 0
C75: 1.10. | D75: Demontaža postojećeg limenog vertikalnog žlijeba oborinske odvodnje f110 mm sa pripadnim elementnima. U cijenu uključen sav potreban rad, posebno pažljiv rad na odspajanju cijevi od vanjskih klima jedinica koje su priključene na vertikalu, ručno nošenje otpadnog materijala od kosog krova do deponije ispred zgrade, utovar u kamion, transport i odvoz otpadnog materijala na deponiju predviđenu za prihvat takve vrste materijala uz sva davanja na deponiji.
D76: Obračun po m'.
D77: - vertikalni limeni žlijeb sa pripadnim elementima (otvorena i zatvorena terasa) | E77: m' | F77: 1.8 | H77: =F77*G77 -> 0
C79: 1.11. | D79: Demontaža postojećih odzraka sa pripadnim elementnima. U cijenu uključen sav potreban rad, posebno pažljiv rad na odspajanju cijevi od vanjskih klima jedinica koje su priključene na vertikalu, ručno nošenje otpadnog materijala od kosog krova do deponije ispred zgrade, utovar u kamion, transport i odvoz otpadnog materijala na deponiju predviđenu za prihvat takve vrste materijala uz sva davanja na deponiji.
D80: Obračun po komadu.
D81: - odzraka f110 mm, h=150 cm | E81: kom | F81: 2 | H81: =F81*G81 -> 0
D82: - odzraka f75 mm, h=105 cm | E82: kom | F82: 1 | H82: =F82*G82 -> 0
D83: - odzraka f50 mm, h=105 cm | E83: kom | F83: 1 | H83: =F83*G83 -> 0
C85: 1.12. | D85: Demontaža trapeznih limenih ploča na kosom krovu. U cijenu uključen sav potreban rad, ručno nošenje otpadnog materijala od kosog krova do deponije ispred zgrade, utovar u kamion, transport i odvoz otpadnog materijala na deponiju predviđenu za prihvat takve vrste materijala uz sva davanja na deponiji.
D86: Obračun po m2 i m'.
D87: - krovne ploče | E87: m2 | F87: 227.5224 | H87: =F87*G87 -> 0
C89: 1.13. | D89: Demontaža obloge od šindre na vertikalnim dijelovima fasade. U cijenu uključen sav potreban rad, ručno nošenje otpadnog materijala od kosog krova do deponije ispred zgrade, utovar u kamion, transport i odvoz otpadnog materijala na deponiju predviđenu za prihvat takve vrste materijala uz sva davanja na deponiji.
D90: Obračun po m2 i m'.
D91: - zidna obloga | E91: m2 | F91: 107.88225 | H91: =F91*G91 -> 0
C93: 1.14. | D93: Pažljiva demontaža toplinske izolacije (tervol, polistiren, izoliz ploče) debljine d=5 cm, između uzdužnih drvenih letvi. U cijenu uključen sav potreban rad, ručno nošenje otpadnog materijala od kosog krova do deponije ispred zgrade, utovar u kamion, transport i odvoz i istovar otpadnog materijala na deponiju predviđenu za prihvat takve vrste materijala uz sva davanja na deponiji.
D94: Obračun po m2. | E94: m2 | F94: 335.40465 | H94: =F94*G94 -> 0
C96: 1.15. | D96: Pažljiva demontaža drvenih uzdužnih letvi dimenzija 76x48 mm, na osnom razmaku 85 cm. U cijenu uključen sav potreban rad, ručno nošenje otpadnog materijala od kosog krova do deponije ispred zgrade, utovar u kamion, transport i odvoz i istovar otpadnog materijala na deponiju predviđenu za prihvat takve vrste materijala uz sva davanja na deponiji.
D97: Obračun po m2. | E97: m2 | F97: 335.40465 | H97: =F97*G97 -> 0
C99: 1.16. | D99: Pažljiva demontaža poprečnih drvenih letvi dimenzija 48x28 mm, na osnom razmaku 14 cm. U cijenu uključen sav potreban rad, ručno nošenje otpadnog materijala od kosog krova do deponije ispred zgrade, utovar u kamion, transport i odvoz i istovar otpadnog materijala na deponiju predviđenu za prihvat takve vrste materijala uz sva davanja na deponiji.
D100: Obračun po m2. | E100: m2 | F100: 335.40465 | H100: =F100*G100 -> 0
C102: 1.17. | D102: Pažljiva demontaža krovne paroizolacije. U cijenu uključen sav potreban rad, ručno nošenje otpadnog materijala od kosog krova do deponije ispred zgrade, utovar u kamion, transport i odvoz i istovar otpadnog materijala na deponiju predviđenu za prihvat takve vrste materijala uz sva davanja na deponiji.
D103: Obračun po m2. | E103: m2 | F103: 335.40465 | H103: =F103*G103 -> 0
C105: 1.18. | D105: Nepredvidljivi radovi, koji se ne mogu drugačije normirati – pomoć kod raznih dubljenja i bušenja, nepredviđeni radovi i sl. Materijal se obračunava prema stvarno utrošenim količinama prema cjeniku, odnosno prema pogođenim jediničnim cijenama. Obračun prema upisu u građevinski dnevnik i dogovoru s investitorom i nadzornim inženjerom.
D106: Obračun po utrošenom satu.
D107: - NKV radnik | E107: h | F107: 10 | H107: =F107*G107 -> 0
D108: - VK radnik | E108: h | F108: 10 | H108: =F108*G108 -> 0
C110: 1 | D110: PRIPREMNI RADOVI I RADOVI RUŠENJA | E110: UKUPNO | H110: =SUM(H27:H109) -> 0
C113: 2 | D113: TESARSKI I KROVOPOKRIVAČKI RADOVI
D115: Napomene:
D116: Svi spojevi konstrukcije moraju biti prema statičkom računu. Za cjelokupnu konstrukciju potrebno je osigurati ateste. Izvoditelj je dužan po sklapanju ugovora, a prije početka izvođenja radova konstrukcije dostaviti radioničke nacrte i detalje ovjerene od statičara, te zajedno s projektantom i nadzornim inženjerom izvršiti pregled istih.
D117: Izvođač radova drvene konstrukcije obavezan je napraviti radioničku dokumentaciju i ishoditi ovjeru od glavnog projektanta drvene konstrukcije i od ovlaštenog revidenta za drvene konstrukcije.
D118: U cijenu su uključeni i troškovi nadzora proizvodnje prema zahtjevima Tehničkog propisa za drvene konstrukcije. Nakon izvršenog nadzora, a prije ugradnje elemenata drvene konstrukcije nadzorni inženjer daje izvještaj da su elementi proizvedeni sukladno zahtjevima iz projekta.
D120: Napomena: raster (linije stojećih falčeva) s kosog krova se nastavlja i spušta vertikalno niz fasadu. Ako se krovne i fasadne linije falčeva ne poklapaju u milimetar, zgrada će s ceste izgledati estetski neuredno. Pravilno izveden prijelazni okapni lim omogućuje da te linije teku bez prekida.
C122: 2.1. | D122: Dobava materijala i montaža dvoslojnog rastera drvenih letava na vertikalnom armirano-betonskom zidu za formiranje ventiliranog prostora iza falcanog lima.
D123: Primarne (vertikalne) letve: Suhe drvene štafle presjeka minimalno 50x40 mm montiraju se vertikalno preko fasadne paropropusne folije i mineralne vune u osnom razmaku 60 cm. Sidre se mehanički (pomoću dugih fasadnih vijaka s tiplama) direktno u nosivi AB zid, osiguravajući da nosivi sustav letava ne prenosi opterećenje na toplinsku izolaciju. Kada se vijak zategne, letva se fiksira snagom tog sidra u betonu, a vuna ostaje lagano stisnuta iza nje. Težinu fasade u ovom slučaju drže smioni naponi u vijcima, a ne sama vuna. Ove letve osiguravaju neprekinuti vertikalni protok zraka od podnožja do vrha fasade. Prije ugradnje građu dvokratno premazati odgovarajućim "fugicidom". Sve radove izvesti stručno, precizno i po pravilima tesarske struke. Jediničnom cijenom obuhvatiti obuhvatiti podizanje do mjesta ugradnje. U cijenu uračunat sav rad i materijal.
D124: Obračun po m2 drvene građe na povšini koja je predmet zahvata, razmaka letvi na osnom razmaku 60 cm, sve do funkcionalne gotovosti. | E124: m2 | F124: 107.88225 | H124: =F124*G124 -> 0
C126: 2.2. | D126: Dobava materijala i montaža dvoslojnog rastera drvenih letava na vertikalnom armirano-betonskom zidu za formiranje ventiliranog prostora iza falcanog lima.
D127: Sekundarne (horizontalne) letve: Suhe letve presjeka minimalno 40x50 mm montiraju se poprečno preko primarnih letava i služe kao izravna podloga za prihvat drvene oplate. Prije ugradnje građu dvokratno premazati odgovarajućim "fugicidom". Sve radove izvesti stručno, precizno i po pravilima tesarske struke. Jediničnom cijenom obuhvatiti obuhvatiti podizanje do mjesta ugradnje. U cijenu uračunat sav rad i materijal.
D128: Obračun po m2 drvene građe na povšini koja je predmet zahvata, razmaka letvi 30 cm, sve do funkcionalne gotovosti. | E128: m2 | F128: 107.88225 | H128: =F128*G128 -> 0
C130: 2.3. | D130: Dobava građe, krojenje i montaža drvenih krovnih gredica (štafli) pravokutnog presjeka 50x80 mm. Koristi se zdrava, suha i kvalitetna drvena građa četinara (jelovina/smrekovina), minimalno klase C24, tretirana preventivnim fungicidnim i insekticidnim premazom. Gredice se polažu "na nož" (visina 8 cm) kontinuirano duž cijelog kosog krova s međusobnim razmakom prilagođenim širini ploča mineralne vune (cca 60 cm). Na gornjem dijelu krova polažu se preko izvedene bitumenske parne brane na armirano-betonsku ploču uz mehaničko fiksiranje, dok na donjem dijelu krova premošćuju slobodan raspon od zadnjih 366-135 cm do južnog vertikalnog fasadnog zida. Stavka uključuje precizno niveliranje gornje ravnine gredica, ugradnju svih potrebnih spojnih elemenata (vijci za drvo, sidra), obradu spojeva i ležajeva na betonskim dijelovima te sav potreban otpad i skele.
D131: Obračun po m2 drvene građe na povšini koja je predmet zahvata, razmaka gredica u osnom razmaku 60 cm, sve do funkcionalne gotovosti. | E131: m2 | F131: 227.5224 | H131: =F131*G131 -> 0
C133: 2.4. | D133: Dobava materijala i montaža suhih drvenih kontra-letvi (štafli) presjeka minimalno 50x50 mm duž kosog krova. Kontra-letve se postavljaju vertikalno, u osi drvenih greda, preko ugrađene krovne paropropusne folije i toplinske izolacije. Učvršćuju se mehaničkim sidrenjem (namjenskim dugim torx vijcima za krovove) kroz izolaciju direktno u nosivu strukturu (AB ploču i drvene grede na donjem dijelu krova). Stavka obavezno uključuje ugradnju butilne samoljepljive trake za brtvljenje (tzv. "čavlarice") ispod svake kontra-letve kako bi se zabrtvila mjesta prodora vijaka kroz foliju. Kontra-letve formiraju primarni ventilirani zračni kanal visine min. 50 mm. Prije ugradnje građu dvokratno premazati odgovarajućim "fugicidom". Sve radove izvesti stručno, precizno i po pravilima tesarske struke. Jediničnom cijenom obuhvatiti obuhvatiti podizanje do mjesta ugradnje. U cijenu uračunat sav rad i materijal.
D134: Obračun po m2 drvene građe na povšini koja je predmet zahvata, razmaka kontra letvi u osnom razmaku 60 cm, sve do funkcionalne gotovosti. | E134: m2 | F134: 227.5224 | H134: =F134*G134 -> 0
C136: 2.5. | D136: Dobava materijala i izrada kontinuirane čvrste drvene oplate (daskašenja) preko drvenih kontra-letvi (štafli) za ventilaciju na kosom krovu. Oplata se izvodi od suhih drvenih dasaka minimalne debljine d=24 mm. Daske se montiraju s minimalnim razmakom (reškom) od 2-3 mm radi toplinskog rada drva, te se čvrsto fiksiraju odgovarajućim torx vijcima ili namjenskim čavlima za drvenu podkonstrukciju. Izvedena podloga mora biti savršeno ravna, bez izbočina, valovanja i kruta kako bi podnijela opterećenje pokrova i hodanja. Stavka uključuje sav rad, materijal, ukrajanje oko otvora/prodora i otpad, zaštitne premaze drva.
D137: Obračun po m2 drvene građe na povšini koja je predmet zahvata, sve do funkcionalne gotovosti. | E137: m2 | F137: 227.5224 | H137: =F137*G137 -> 0
C139: 2.6. | D139: Dobava materijala i izrada drvene podloge za prihvat falcanog lima na vertikalnom armirano-betonskom zidu. Preko vertikalnih primarnih letava (koje osiguravaju ventilirani zračni kanal) montira se horizontalna drvena oplata od suhih dasaka debljine d=24 mm s međusobnim razmakom od 2-5 cm (tzv. "rijetko daskašenje". Konstrukcija se mehanički sidri kroz fasadnu foliju i izolaciju direktno u nosivi AB zid pomoću namjenskih sidara i dugih fasadnih vijaka. Podloga mora biti izvedena idealno vertikalno i ravninski ujednačeno, spremna za montažu haftera i falcanog lima. Stavka uključuje sav materijal, pribor, zaštitne premaze drva te obradu oko fasadnih otvora (prozora, vrata)
...

Sheet Bočna fasada
D1: GRAĐEVINA | E1: ='[1]Opći uvjeti'!E1 -> SANACIJA KOSOG | G1: BR. PROJEKTA | H1: 51-2026-S
E2: ='[1]Opći uvjeti'!E2 -> KROVA I BOČNE FASADE
E3: ='[1]Opći uvjeti'!E3 -> PETROVA ULICA 53/4 | G3: ZOP | H3: 51-2026-PE
D4: NARUČITELJ | E4: GSKG d.o.o.
D5: FAZA PROJEKTA | E5: GLAVNI PROJEKT | G5: DATUM | H5: Rujan 2026.
C7: Rbr. | D7: Opis stavke | E7: Jed. mjera | F7: Količina | G7: Jed. cijena | H7: Ukupno cijena
C10: B | D10: BOČNA FASADA - GRAĐEVINSKO-OBRTNIČKI RADOVI
D12: NAPOMENA 1: Prilikom izvedbe radova predviđenih ovim troškovnikom treba se pridržavati svih važećih zakona, pravilnika, propisa i normi, kao i pravila zanata kako bi se što kvalitetnije izveli radovi.
D14: NAPOMENA 2: Sve nejasnoće u troškovniku i u izvedbenom projektu treba riješiti s projektantom prije davanje ponude i početka radova.
D16: NAPOMENA 3: Izvođač je dužan u cijenu radova uključiti sve potrebne zaštite dijelova gradilišta koji nisu predmetom radova od oštećenja i prljanja, odvajanje prostora rada od ostatka prostora, izvedba daščanih prijelaza i sl.
C18: 1 | D18: RADOVI RUŠENJA I PRIPREMNI RADOVI
D20: Napomene:
D21: Prije početka radova, izvođač je obavezan postaviti i instalirati sve privremene objekte, zaštitne ograde, opremu i instalacije potrebne za normalno izvođenje radova te iste ukloniti s gradilišta nakon završetka radova.
D22: Sve radove obavezno izvesti u svemu prema važećem pravilniku ZNR i ZOP, uz obavezno poštivanje svih mjera propisanih istim.
D23: U postupku rušenja – uklanjanja postojećih građevina ili dijela istih, rad mora biti organiziran tako da se poštuju svi propisi zaštite na radu, a izvršioci – djelatnici moraju biti upoznati s njima i primjenjivati ih u potpunosti.
D24: Posebno će se odvojiti ambalažni otpad (papir, plastika, staklo, drvo i sl.) od šute i otpada građevinskog materijala (cigla, beton, crijep, ker. pločice i sl.). Sav otpadni materijal će se učestalo odvoziti sa lokacije na mjesta predviđena za odlaganje pojedine vrste otpada i u reciklažna dvorišta, a sam odvoz je u cijeni stavke.
D25: Zabranjeno je odvoziti otpad na mjesta koja za to nisu dozvoljena.
D26: Nakon rušenja i odvoza otpada i građevinske šute, mjesto izvođenja radova se mora dovesti u uredno stanje, a sa ulične strane javna prometna površina se mora očistiti i dovesti u prvobitno stanje.
D27: Sav otpad prevozi se i odlaže sukladno propisima o otpadu i komunalnom redu. Odlaganje na gradsku planirku predviđenu za prihvat takve vrste materijala.
C29: 1.1. | D29: Pažljiva demontaža dve ventilatora sa zaštitnom mrežicom na fasadi, dimenzija 18x18 cm, te vraćanje istih nakon završetka svih radova. U cijenu uključen sav potreban rad, materijal i pribor, te sav transport i manipulacija.
D30: Obračun po kompletu.
D31: a) demontaža | E31: kompl | F31: 2 | H31: =F31*G31 -> 0
D32: b) montaža po završetku radova | E32: kompl | F32: 2 | H32: =F32*G32 -> 0
C35: 1.2. | D35: Pažljiva demontaža vanjske klima jedinice zajedno sa čeličnom podkonstrukcijom, te vraćanje istog nakon završetka svih radova. U cijenu uključen sav potreban rad, materijal i pribor, te sav transport i manipulacija.
D36: Obračun po kompletu.
D37: a) demontaža | E37: kompl | F37: 1 | H37: =F37*G37 -> 0
D38: b) montaža po završetku radova | E38: kompl | F38: 1 | H38: =F38*G38 -> 0
C40: 1.3. | D40: Dobava, postave, skidanje i odvoz drevnih dasaka za zaštitu otvora ili drugog na pročeljima. Postavlja se na doprozornike ili slično, tako da ih ne ošteti. Uključiti zaštitu ventilacijskih otvora i drugog i dodatne potkonstrukcje i element (drvene grede - daske, mosnice, panoi i dr.). U stavku uključen sav potreban rad, materijal i transport.
D41: Obračun po m2 zaštićenih otvora / ploha na pročeljima. | E41: m2 | F41: 12.056625 | H41: =F41*G41 -> 0
C43: 1.4. | D43: Pažljiva demontaža svih slojeva postojeće toplinske izolacije bočne fasade - ljepilo, toplinska izolacija debljine d=15 cm, dcostruki armirani sloj sa mrežicom, silikatna žbuka. U cijenu uključen sav potreban rad, ručno nošenje otpadnog materijala do deponije ispred zgrade, utovar u kamion, transport i odvoz i istovar otpadnog materijala na deponiju predviđenu za prihvat takve vrste materijala uz sva davanja na deponiji.
D44: Obračun po m2. | E44: m2 | F44: 128.0475 | H44: =F44*G44 -> 0
C46: 1.5. | D46: Pažljiva demontaža limenih prozorskih klupčica. U cijenu uključen sav potreban rad, ručno nošenje otpadnog materijala do deponije ispred zgrade, utovar u kamion, transport i odvoz i istovar otpadnog materijala na deponiju predviđenu za prihvat takve vrste materijala uz sva davanja na deponiji.
D47: Obračun po m'. Preklopi se ne računaju zasebno. | E47: m' | F47: 9.2925 | H47: =F47*G47 -> 0
C49: 1.6. | D49: Pažljiva demontaža limenog opšava r.š. 35 cm ispod postojeće toplinske obloge fasade. U cijenu uključen sav potreban rad, ručno nošenje otpadnog materijala do deponije ispred zgrade, utovar u kamion, transport i odvoz i istovar otpadnog materijala na deponiju predviđenu za prihvat takve vrste materijala uz sva davanja na deponiji.
D50: Obračun po m'. Preklopi se ne računaju zasebno. | E50: m' | F50: 13.55 | H50: =F50*G50 -> 0
C52: 1.7. | D52: Nepredvidljivi radovi, koji se ne mogu drugačije normirati – pomoć kod raznih dubljenja i bušenja, nepredviđeni radovi i sl. Materijal se obračunava prema stvarno utrošenim količinama prema cjeniku, odnosno prema pogođenim jediničnim cijenama. Obračun prema upisu u građevinski dnevnik i dogovoru s investitorom i nadzornim inženjerom.
D53: Obračun po utrošenom satu.
D54: - NKV radnik | E54: h | F54: 5 | H54: =F54*G54 -> 0
D55: - VK radnik | E55: h | F55: 5 | H55: =F55*G55 -> 0
C57: 1 | D57: PRIPREMNI RADOVI I RADOVI RUŠENJA | E57: UKUPNO | H57: =SUM(H27:H56) -> 0
C60: 2 | D60: FASADESRSKI RADOVI
D62: Napomene:
D63: NAPOMENA 1: Prozori se zadržavaju u ovoj fazi obnove. Pri kasnijoj zamjeni / obnovi stolarije obavezno izvršiti njezino izmicanje prema van i ugraditi nove / obnovljene prozore na odgovarajuće mjesto u termoizolacijski sloj radi izbjegavanja toplinskih mostova i prilagođavanja izgleda pročelja.
D64: NAPOMENA 2: Detalje i spajeva građevinskih elemenata izvesti na način da se izbjegne formiranje toplinskih mostova. Sve spojeve (s prozorima, krovom, itd.) i prodora kraz ETICS (gromobranske, elektroinstalacije, žljebovi i dr.) izvesti odgovarajućim prlključnim profilima i / ili brtvenim trakama da se sustav zaštiti od prodora vlage.
C66: 2.1. | D66: Priprema zida za postavu ETICS sustava - čišćenje čitave otucane površine žičanim četkama, temeljito otprašivanje i višekratno pranje vodom pod pritiskom koji treba utvrditi na probnom polju
D67: - sve potrebne popravke, izravnanja i pripreme ploha špaleta za izvedbu klupčica - provjeru vertikalnosti, izravnanje neravnina i krpanje VC žbukom na prethodno vodom navlaženoj podlozi
D68: Obračun po m2 obrađene površine, sve do funkcionalne gotovosti. | E68: m2 | F68: 128.0475 | H68: =F68*G68 -> 0
C70: 2.2. | D70: Dobava materijala i strojna ili ručna izrada cementnog šprica (špric-bastera) na vanjskim vertikalnim površinama zidova prije ugradnje ETICS sustava toplinske izolacije. Prethodno navlaživanje suhe podloge čistom vodom. Spravljanje cementnog morta rjeđe konzistencije (standardni omjer cementa i pijeska) ili priprema tvornički gotovog suhog šprica. Nanos šprica na pripremljenu podlogu tako da pokrivenost površine bude ravnomjerna (minimalno 70–80% pokrivenosti) radi stvaranja hrapave teksture ("zuba"). Njegu nanesenog sloja (vlaženje) u fazi vezivanja te čišćenje okolnog prostora po završetku rada. U cijenu iključen sav potreban rad i materijal.
D71: Obračun se vrši po m2 stvarno izvedene i pokrivene površine | E71: m2 | F71: 128.0475 | H71: =F71*G71 -> 0
C73: 2.3. | D73: Fasadna obloga zidova
D74: Dobava potrebnog materijala i izvedba kompaktnog termoizolacijskog fasadnog sustava (ETICS) s toplinsko izolacijskim pločama od mineralne kamene vune debljine d=15 cm. Stavka obuhvaća i izvedbu špaleta prozora, prilagođavanja oblikovanja uz prozore u kutevima. Ploče trebaju biti A1 razreda rekcije na požar, otpor difuziji vodene pare m<3,5, koeficijent toplinske provodljivosti l=0,035 W/mK, vodoodbojne (impreg. vlakana), trajne kompaktnosti, zvučnolzolacijske, dimenzionalno postojane, otporne na kemikalije i mikroorganizme, zanemarivog temperaturnog rada, elastične na udarce i vibracije.
D75: Prije početka postave pripremiti podlogu po uputama proizvodača obloga. Sve podloge moraju biti čiste, čvrste, bez ostataka ulja ili soli od isoljavanja, bez kapilarne ili druge vłage i slično. Ploče postavljati minimalnim slojem vodoodbojnog paropropusnog Ijepila (l=0,8W/mK, m<18) nanošenog zidarskom žlicom po rubovima i točkasto na nekoliko mjesta u sredini ploče dobro utrljavajući na minimalno 40% njene površine.
D76: Polaganje se izvodi s pomakom približno pola ploče i vezom na "češalj" na kutevima. Prethodno se na dobro pripremljen zid (čista, suha i ravna podloga) na dnu postavlja rubni profil sokla. Spoj sokla i ploča obavezno zatvoriti brtvenim trakama ili trajnoelastičnim kitom, a reške se ne smiju zapunjavati na spojevima ljepilom. Po završetku vezanja ljepila (3 dana), ploče dodatno mehanički pričvrstiti spojnicama ("tiplima", "sidrima", 6-8 kom/m2, po sistemu slova "W", razmak od ruba ploče 5 cm i dvostruko gušći raspored tipli uz rubove zgrade u širini 1 m).
D77: Uz rubove zgrade u širini 1 m treba postaviti dvostruko gušći raspored tipli. Završna obrada se izvodi na dobro pripremljenoj površini i u povoljnim vremenskim uvjetima. Na sve kuteve objekta i sve kuteve oko špaleta postaviti kutne profile s armatumom mrežicom, oko svakog otvora dodatno postaviti manje trake armaturne mrežice po dijagonali veličine 20x40 cm. Sudar ploča se ne smije nalaziti na kutu otvora. Nakon toga se preko cijele površine fasade nanosi sloj paropropusnog ljepila (l= 0,8 W/mK, koeficijent otpora difuzije pare m<18) debIjine 3 mm u koji se utapa tekstilno-staklena alkalno otporna mrežica uz preklop 10 cm. Tada se nanosi još jedan sloj paropropusnog Ijepila za izravnavanje i po završetku sušenja (10-15 dana), prije nanošenja završnog sloja tankoslojne žbuke, površina impregnira u boji tog sloja.
D78: Završno nanjeti silikatnu žbuku 2 mm, visoke paropropusnosti (SD=0,06-0,10 m), otpornu na atmosferske utjecaje, negorivu, ojačanu vlaknima, vrlo niske emisije VOC, u fazama, prema važećim propisima, recepturama, normama i pravilima struke. Detalje i spojeve građevinskih elemenata oblikovati na način da se izbjegne formiranje toplinskih mostova. Sva pričvršćenja se izvode direktno u zid (ne u termo izolacijske ploče) i prije izvedbe ETICS-a. Na parapetima otvora (klupčice), gomju stranu termo izolacijskih ploča zaštititi armatumim slojem i masom za brtvljenje. Izvodlti po uputi proizvodača i smjernicama HUPFAS. Maksimalno odstupanje ravnine zida na 10 m je ± 1 cm. U stavku je uključeno skidanje i polaganje opšava, limarski i drugi potrebni radovi prilagođavanja, što nije obuhvaćeno posebnim stavkama.
D79: U cijenu stavke uključen je sav potreban rad, materijal, faktori i transport, svi slojevi ETICS-a od podloge do završne pročeljne tankoslojne žbuke, pomoćne konstrukcije, zaštite i slično, a što nije obračunato posebnim stavkama.
D80: Otvori do 3 m2 se ne odbijaju, te se ne računaju špalete. Otvori od 3-5 m2 se odbijaju preko 3 m2, te se ne obračunavaju špalete.
D81: Obračun po m2 ortogonalne projekcije dijela pročelja na koji se nanosi obloga, uključivo pristupci, bez dodavanja koeficijenata.
D82: a) Izvedba sloja termoizolacije s pričvršćenjem (ljepilo, termo izolacijske ploče, pričvrsnice)
D83: a) stvarno izvedena toplinska izolacija zidova pročelja, debljina termo izolacijske ploče 15 cm mineralna vuna | E83: m2 | F83: 128.0475 | H83: =F83*G83 -> 0
C85: 2.4. | D85: Gletanje u dva sloja preko izolacijskih ploča i lamela odgovarajućom glet masom u dva sloja sa rabiciranjem cijele površine rabic pletivom. Rad se izvodi u svemu prema uputama proizvođača.
D86: Stavka obuhvaća sav rad i materijal uključujući potrebne kutne i okapne metalne fasadne profile te čišćenje nakon izvedenih radova
D87: Obračun po m2 stvarne površine bez dodavanja koeficijenata.
D88: a) bočno pročelje | E88: m2 | F88: 131.4495 | H88: =F88*G88 -> 0
C90: 2.5. | D90: Nanošenje završnog silikatnog sloja fasade veličine zrna 2 mm u boji što sličnijoj postojećoj.
D91: Završni sloj se nanosi na potpuno suhu ravnu čistu površinu uz prethodnu impregnaciju podloge odgovarajućim prednamazom koji je uključen u cijenu.
D92: Stavka obuhvaća sav rad i materijal te čišćenje nakon izvedenih radova.
D93: Obračun po m2 stvarne površine bez dodavanja koeficijenata.
D94: a) bočno pročelje | E94: m2 | F94: 131.4495 | H94: =F94*G94 -> 0
C96: 2 | D96: =D60 -> FASADESRSKI RADOVI | E96: UKUPNO | H96: =SUM(H62:H95) -> 0
C99: 3 | D99: LIMARSKI RADOVI
D101: Napomene:
D102: Limarski elementi pročelja se izvode od bijelog plastificiranog aluminijskog lima. Plastifikacija (bojanje prahom zapečenim na visokoj temperaturi) u standardnoj bijeloj boji (najčešće RAL 9010 ili RAL 9016) osigurava maksimalnu otpornost na vremenske utjecaje, UV zračenje i koroziju. Kod polaganja limova voditi računa o vrsti podložnih slojeva i prilagoditi ih vrsti primjenjenog lima.
D103: Pravilnika o tehničkim normativima za projektiranje i izvođenje završnih radova u građevinarstvu (sl. br. 21/90),
C105: 3.1. | D105: Dobava materijala i montaža vanjskih prozorskih klupčica izrađenih od bijelog plastificiranog aluminijskog lima (standardno RAL 9010 ili RAL 9016), debljine minimalno 1.5 mm (ili ekstrudirani aluminij). U stavku je uključen sav potreban rad, pomoćni materijal i oprema za precizno uzimanje mjera na gradilištu nakon izrade fasadnih špaleta, rezanje klupčica na točnu duljinu i pripajanje bočnih PVC ili aluminijskih završnih elemenata (čepova) s integriranom brtvom za kompenzaciju toplinskog rastezanja, montažu klupčica na pripremljenu podlogu u sloju niskoekspandirajuće poliuretanske (PU) pjene koja služi za fiksiranje, zvučnu izolaciju od udara kiše i sprječavanje toplinskih mostova, osiguranje obaveznog pada prema van (min. 5%) i prepusta preko završne ravnine fasade od minimalno 3–4 cm s izvedenom okapnicom, brtvljenje svih spojeva između bočnih završetaka klupčice, prozorskog okvira i fasadne špalete trajnoelastičnim poliuretanskim ili MS polimernim kitom otpornim na atmosferske utjecaje, uklanjanje zaštitne folije nakon završetka svih fasaderskih radova i čišćenje. U cijenu uključen sav potreban rad i materijal.
D106: Obračun po m' ugrađene klupčice, sve do funkcionalne gotovosti. Preklopi se ne računaju posebno. | E106: m' | F106: 9.2925 | H106: =F106*G106 -> 0
C108: 3.2. | D108: Dobava materijala, krojenje, savijanje i ugradnja zaštitnog opšava od ravnog lima na vrhu nadozida, a ispod toplinske izolacije, bez izvedbe stojećih falčeva. Opšav se izvodi od pocinčanog bojanog lima debljine minimalno 0,65 mm. Spojevi elemenata izvode se preklopom od minimalno 5 do 10 cm, uz brtvljenje spojeva trajnoelastičnim poliuretanskim kitom. Stavka uključuje, krojenje i savijanje lima s formiranjem okapnih rubova s obje strane zida, brtvljenje svih preklopa i spojeva kitom otpornim na atmosferske utjecaje, montažu i fiksiranje vijcima s gumenom podloškom u odgovarajućoj boji, sav potreban sitan materijal, rad na visini i čišćenje.
D109: Obračun po m' ugrađenog opšava, sve do funkcionalne gotovosti. Preklopi se ne računaju posebno. | E109: m' | F109: =F50 -> 13.55 | H109: =F109*G109 -> 0
C111: 3 | D111: =D99 -> LIMARSKI RADOVI | E111: UKUPNO | H111: =SUM(H105:H109) -> 0
C114: 4 | D114: OSTALI RADOVI
C116: 4.1. | D116: Čišćenje i pranje gradilišta tijekom odvijanja radova i nakon izvedenih radova
D117: Obračun po kompletu. | E117: kompl | F117: 1 | H117: =F117*G117 -> 0
C119: =C114 -> 4 | D119: =D114 -> OSTALI RADOVI | E119: UKUPNO | H119: =SUM(H114:H118) -> 0
C122: B | D122: BOČNA FASADA - GRAĐEVINSKO-OBRTNIČKI RADOVI UKUPNO | H122: =H57+H96+H111+H119 -> 0
D126: REKAPITULACIJA
C128: B | D128: BOČNA FASADA - GRAĐEVINSKO-OBRTNIČKI RADOVI
C130: 1 | D130: =D57 -> PRIPREMNI RADOVI I RADOVI RUŠENJA | H130: =H57 -> 0
C131: 2 | D131: =D96 -> FASADESRSKI RADOVI | H131: =H96 -> 0
C132: 3 | D132: =D111 -> LIMARSKI RADOVI | H132: =H111 -> 0
C133: =C119 -> 4 | D133: =D119 -> OSTALI RADOVI | H133: =H119 -> 0
C135: B | D135: BOČNA FASADA - GRAĐEVINSKO-OBRTNIČKI RADOVI UKUPNO | H135: =SUM(H130:H134) -> 0
G137: PDV 25% | H137: =0.25*H135 -> 0
G139: SVEUKUPNO | H139: =H137+H135 -> 0

Sheet Rekapitulacija
D1: GRAĐEVINA | E1: ='[1]Opći uvjeti'!E1 -> SANACIJA KOSOG | G1: BR. PROJEKTA | H1: 51-2026-S
E2: ='[1]Opći uvjeti'!E2 -> KROVA I BOČNE FASADE
E3: ='[1]Opći uvjeti'!E3 -> PETROVA ULICA 53/4 | G3: ZOP | H3: 51-2026-PE
D4: NARUČITELJ | E4: GSKG d.o.o.
D5: FAZA PROJEKTA | E5: GLAVNI PROJEKT | G5: DATUM | H5: Rujan 2026.
C7: Rbr. | D7: Opis stavke | E7: Jed. mjera | F7: Količina | G7: Jed. cijena | H7: Ukupno cijena
D11: REKAPITULACIJA
C13: A | D13: KOSI KROV | H13: ='Kosi krov'!H360 -> 0
C14: B | D14: BOČNA FASADA | H14: ='Bočna fasada'!H135 -> 0
D16: UKUPNO | H16: =SUM(H12:H15) -> 0
G18: PDV 25% | H18: =0.25*H16 -> 0
G20: SVEUKUPNO | H20: =H18+H16 -> 0
